BEGIN:VCALENDAR
VERSION:2.0
PRODID:spatie/icalendar-generator
NAME:Surgent's Incident Response and Case Studies in AI-powered Cybersecuri
 ty
X-WR-CALNAME:Surgent's Incident Response and Case Studies in AI-powered Cyb
 ersecurity
BEGIN:VTIMEZONE
TZID:America/Chicago
BEGIN:STANDARD
DTSTART:20261101T010000
TZOFFSETFROM:-0500
TZOFFSETTO:-0600
END:STANDARD
BEGIN:DAYLIGHT
DTSTART:20270314T010000
TZOFFSETFROM:-0600
TZOFFSETTO:-0500
END:DAYLIGHT
END:VTIMEZONE
BEGIN:VTIMEZONE
TZID:UTC
BEGIN:STANDARD
DTSTART:20250726T185628
TZOFFSETFROM:+0000
TZOFFSETTO:+0000
END:STANDARD
END:VTIMEZONE
BEGIN:VEVENT
UID:69e919dc1b55f
DTSTAMP:20260422T185628Z
SUMMARY:Surgent's Incident Response and Case Studies in AI-powered Cybersec
 urity
URL:https://alabama.cpa/catalog/events/7713523-surgents-incident-response-a
 nd-case-studies-in-ai-powered-cybersecurity-2027-03-03
DTSTART;TZID=America/Chicago:20270303T090000
DTEND;TZID=America/Chicago:20270303T110000
END:VEVENT
END:VCALENDAR