BEGIN:VCALENDAR
VERSION:2.0
PRODID:spatie/icalendar-generator
NAME:Surgent's Exploring Client Advisory Services: Tax Due Dates and Penalt
 ies/Where Do I Need To File?
X-WR-CALNAME:Surgent's Exploring Client Advisory Services: Tax Due Dates an
 d Penalties/Where Do I Need To File?
BEGIN:VTIMEZONE
TZID:America/Chicago
BEGIN:STANDARD
DTSTART:20261101T010000
TZOFFSETFROM:-0500
TZOFFSETTO:-0600
END:STANDARD
BEGIN:DAYLIGHT
DTSTART:20270314T010000
TZOFFSETFROM:-0600
TZOFFSETTO:-0500
END:DAYLIGHT
END:VTIMEZONE
BEGIN:VTIMEZONE
TZID:UTC
BEGIN:STANDARD
DTSTART:20250726T185111
TZOFFSETFROM:+0000
TZOFFSETTO:+0000
END:STANDARD
END:VTIMEZONE
BEGIN:VEVENT
UID:69e9189f83256
DTSTAMP:20260422T185111Z
SUMMARY:Surgent's Exploring Client Advisory Services: Tax Due Dates and Pen
 alties/Where Do I Need To File?
URL:https://alabama.cpa/catalog/events/7713552-surgents-exploring-client-ad
 visory-services-tax-due-dates-and-penaltieswhere-do-i-need-to-file-2027-03
 -03
DTSTART;TZID=America/Chicago:20270303T120000
DTEND;TZID=America/Chicago:20270303T140000
END:VEVENT
END:VCALENDAR