BEGIN:VCALENDAR
VERSION:2.0
PRODID:spatie/icalendar-generator
NAME:Surgent's Incredible Leadership Transformations in Accounting - Ways t
 o Improve Leadership and Communication
X-WR-CALNAME:Surgent's Incredible Leadership Transformations in Accounting 
 - Ways to Improve Leadership and Communication
BEGIN:VTIMEZONE
TZID:America/Chicago
BEGIN:STANDARD
DTSTART:20261101T010000
TZOFFSETFROM:-0500
TZOFFSETTO:-0600
END:STANDARD
BEGIN:DAYLIGHT
DTSTART:20270314T010000
TZOFFSETFROM:-0600
TZOFFSETTO:-0500
END:DAYLIGHT
END:VTIMEZONE
BEGIN:VTIMEZONE
TZID:UTC
BEGIN:STANDARD
DTSTART:20250726T185555
TZOFFSETFROM:+0000
TZOFFSETTO:+0000
END:STANDARD
END:VTIMEZONE
BEGIN:VEVENT
UID:69e919bbea38e
DTSTAMP:20260422T185555Z
SUMMARY:Surgent's Incredible Leadership Transformations in Accounting - Way
 s to Improve Leadership and Communication
URL:https://alabama.cpa/catalog/events/7713589-surgents-incredible-leadersh
 ip-transformations-in-accounting-ways-to-improve-leadership-and-communicat
 ion-2027-03-03
DTSTART;TZID=America/Chicago:20270303T120000
DTEND;TZID=America/Chicago:20270303T140000
END:VEVENT
END:VCALENDAR