BEGIN:VCALENDAR
VERSION:2.0
PRODID:spatie/icalendar-generator
NAME:Surgent's Excel Budgeting Ideas
X-WR-CALNAME:Surgent's Excel Budgeting Ideas
BEGIN:VTIMEZONE
TZID:America/Chicago
BEGIN:STANDARD
DTSTART:20261101T010000
TZOFFSETFROM:-0500
TZOFFSETTO:-0600
END:STANDARD
BEGIN:DAYLIGHT
DTSTART:20270314T010000
TZOFFSETFROM:-0600
TZOFFSETTO:-0500
END:DAYLIGHT
END:VTIMEZONE
BEGIN:VTIMEZONE
TZID:UTC
BEGIN:STANDARD
DTSTART:20250726T185422
TZOFFSETFROM:+0000
TZOFFSETTO:+0000
END:STANDARD
END:VTIMEZONE
BEGIN:VEVENT
UID:69e9195ef2799
DTSTAMP:20260422T185422Z
SUMMARY:Surgent's Excel Budgeting Ideas
URL:https://alabama.cpa/catalog/events/7713619-surgents-excel-budgeting-ide
 as-2027-04-03
DTSTART;TZID=America/Chicago:20270304T080000
DTEND;TZID=America/Chicago:20270304T100000
END:VEVENT
END:VCALENDAR