BEGIN:VCALENDAR
VERSION:2.0
PRODID:spatie/icalendar-generator
NAME:Surgent's Update on the SECURE 2.0 Act
X-WR-CALNAME:Surgent's Update on the SECURE 2.0 Act
BEGIN:VTIMEZONE
TZID:America/Chicago
BEGIN:STANDARD
DTSTART:20261101T010000
TZOFFSETFROM:-0500
TZOFFSETTO:-0600
END:STANDARD
BEGIN:DAYLIGHT
DTSTART:20270314T010000
TZOFFSETFROM:-0600
TZOFFSETTO:-0500
END:DAYLIGHT
END:VTIMEZONE
BEGIN:VTIMEZONE
TZID:UTC
BEGIN:STANDARD
DTSTART:20250726T185556
TZOFFSETFROM:+0000
TZOFFSETTO:+0000
END:STANDARD
END:VTIMEZONE
BEGIN:VEVENT
UID:69e919bcb7c51
DTSTAMP:20260422T185556Z
SUMMARY:Surgent's Update on the SECURE 2.0 Act
URL:https://alabama.cpa/catalog/events/7713677-surgents-update-on-the-secur
 e-20-act-2027-04-03
DTSTART;TZID=America/Chicago:20270304T130000
DTEND;TZID=America/Chicago:20270304T150000
END:VEVENT
END:VCALENDAR