BEGIN:VCALENDAR
VERSION:2.0
PRODID:spatie/icalendar-generator
NAME:Surgent's Introduction to Charitable Gifting for Individual Taxpayers
X-WR-CALNAME:Surgent's Introduction to Charitable Gifting for Individual Ta
 xpayers
BEGIN:VTIMEZONE
TZID:America/Chicago
BEGIN:STANDARD
DTSTART:20261101T010000
TZOFFSETFROM:-0500
TZOFFSETTO:-0600
END:STANDARD
BEGIN:DAYLIGHT
DTSTART:20270314T010000
TZOFFSETFROM:-0600
TZOFFSETTO:-0500
END:DAYLIGHT
END:VTIMEZONE
BEGIN:VTIMEZONE
TZID:UTC
BEGIN:STANDARD
DTSTART:20250726T185704
TZOFFSETFROM:+0000
TZOFFSETTO:+0000
END:STANDARD
END:VTIMEZONE
BEGIN:VEVENT
UID:69e91a00cbea7
DTSTAMP:20260422T185704Z
SUMMARY:Surgent's Introduction to Charitable Gifting for Individual Taxpaye
 rs
URL:https://alabama.cpa/catalog/events/7713733-surgents-introduction-to-cha
 ritable-gifting-for-individual-taxpayers-2027-05-03
DTSTART;TZID=America/Chicago:20270305T120000
DTEND;TZID=America/Chicago:20270305T140000
END:VEVENT
END:VCALENDAR