BEGIN:VCALENDAR
VERSION:2.0
PRODID:spatie/icalendar-generator
NAME:Surgent's Starting a Small Business: What Every Trusted Advisor and En
 trepreneur Needs To Know
X-WR-CALNAME:Surgent's Starting a Small Business: What Every Trusted Adviso
 r and Entrepreneur Needs To Know
BEGIN:VTIMEZONE
TZID:America/Chicago
BEGIN:STANDARD
DTSTART:20261101T010000
TZOFFSETFROM:-0500
TZOFFSETTO:-0600
END:STANDARD
BEGIN:DAYLIGHT
DTSTART:20270314T010000
TZOFFSETFROM:-0600
TZOFFSETTO:-0500
END:DAYLIGHT
END:VTIMEZONE
BEGIN:VTIMEZONE
TZID:UTC
BEGIN:STANDARD
DTSTART:20250726T185429
TZOFFSETFROM:+0000
TZOFFSETTO:+0000
END:STANDARD
END:VTIMEZONE
BEGIN:VEVENT
UID:69e91965d2e23
DTSTAMP:20260422T185429Z
SUMMARY:Surgent's Starting a Small Business: What Every Trusted Advisor and
  Entrepreneur Needs To Know
URL:https://alabama.cpa/catalog/events/7713779-surgents-starting-a-small-bu
 siness-what-every-trusted-advisor-and-entrepreneur-needs-to-know-2027-05-0
 3
DTSTART;TZID=America/Chicago:20270305T120000
DTEND;TZID=America/Chicago:20270305T140000
END:VEVENT
END:VCALENDAR