BEGIN:VCALENDAR
VERSION:2.0
PRODID:spatie/icalendar-generator
NAME:Surgent's Auditing 401(k) Plans: Critical Issues and Annual Update
X-WR-CALNAME:Surgent's Auditing 401(k) Plans: Critical Issues and Annual Up
 date
BEGIN:VTIMEZONE
TZID:America/Chicago
BEGIN:STANDARD
DTSTART:20261101T010000
TZOFFSETFROM:-0500
TZOFFSETTO:-0600
END:STANDARD
BEGIN:DAYLIGHT
DTSTART:20270314T010000
TZOFFSETFROM:-0600
TZOFFSETTO:-0500
END:DAYLIGHT
END:VTIMEZONE
BEGIN:VTIMEZONE
TZID:UTC
BEGIN:STANDARD
DTSTART:20250726T185245
TZOFFSETFROM:+0000
TZOFFSETTO:+0000
END:STANDARD
END:VTIMEZONE
BEGIN:VEVENT
UID:69e918fd2a5a4
DTSTAMP:20260422T185245Z
SUMMARY:Surgent's Auditing 401(k) Plans: Critical Issues and Annual Update
URL:https://alabama.cpa/catalog/events/7713852-surgents-auditing-401k-plans
 -critical-issues-and-annual-update-2027-08-03
DTSTART;TZID=America/Chicago:20270308T080000
DTEND;TZID=America/Chicago:20270308T120000
END:VEVENT
END:VCALENDAR