BEGIN:VCALENDAR
VERSION:2.0
PRODID:spatie/icalendar-generator
NAME:Surgent's The Risks and Benefits of ChatGPT and Artificial Intelligenc
 e
X-WR-CALNAME:Surgent's The Risks and Benefits of ChatGPT and Artificial Int
 elligence
BEGIN:VTIMEZONE
TZID:America/Chicago
BEGIN:STANDARD
DTSTART:20261101T010000
TZOFFSETFROM:-0500
TZOFFSETTO:-0600
END:STANDARD
BEGIN:DAYLIGHT
DTSTART:20270314T010000
TZOFFSETFROM:-0600
TZOFFSETTO:-0500
END:DAYLIGHT
END:VTIMEZONE
BEGIN:VTIMEZONE
TZID:UTC
BEGIN:STANDARD
DTSTART:20250726T185603
TZOFFSETFROM:+0000
TZOFFSETTO:+0000
END:STANDARD
END:VTIMEZONE
BEGIN:VEVENT
UID:69e919c31f5d1
DTSTAMP:20260422T185603Z
SUMMARY:Surgent's The Risks and Benefits of ChatGPT and Artificial Intellig
 ence
URL:https://alabama.cpa/catalog/events/7713886-surgents-the-risks-and-benef
 its-of-chatgpt-and-artificial-intelligence-2027-08-03
DTSTART;TZID=America/Chicago:20270308T120000
DTEND;TZID=America/Chicago:20270308T140000
END:VEVENT
END:VCALENDAR