BEGIN:VCALENDAR
VERSION:2.0
PRODID:spatie/icalendar-generator
NAME:Surgent's Performing an Effective Audit Risk Assessment
X-WR-CALNAME:Surgent's Performing an Effective Audit Risk Assessment
BEGIN:VTIMEZONE
TZID:America/Chicago
BEGIN:STANDARD
DTSTART:20261101T010000
TZOFFSETFROM:-0500
TZOFFSETTO:-0600
END:STANDARD
BEGIN:DAYLIGHT
DTSTART:20270314T010000
TZOFFSETFROM:-0600
TZOFFSETTO:-0500
END:DAYLIGHT
END:VTIMEZONE
BEGIN:VTIMEZONE
TZID:UTC
BEGIN:STANDARD
DTSTART:20250726T185118
TZOFFSETFROM:+0000
TZOFFSETTO:+0000
END:STANDARD
END:VTIMEZONE
BEGIN:VEVENT
UID:69e918a6b3840
DTSTAMP:20260422T185118Z
SUMMARY:Surgent's Performing an Effective Audit Risk Assessment
URL:https://alabama.cpa/catalog/events/7713998-surgents-performing-an-effec
 tive-audit-risk-assessment-2027-09-03
DTSTART;TZID=America/Chicago:20270309T080000
DTEND;TZID=America/Chicago:20270309T120000
END:VEVENT
END:VCALENDAR