BEGIN:VCALENDAR
VERSION:2.0
PRODID:spatie/icalendar-generator
NAME:Surgent's Defending Firms: Email Fraud\, Cloud Risks\, Cyber Insurance
 \, and Remote Work Security
X-WR-CALNAME:Surgent's Defending Firms: Email Fraud\, Cloud Risks\, Cyber I
 nsurance\, and Remote Work Security
BEGIN:VTIMEZONE
TZID:America/Chicago
BEGIN:STANDARD
DTSTART:20261101T010000
TZOFFSETFROM:-0500
TZOFFSETTO:-0600
END:STANDARD
BEGIN:DAYLIGHT
DTSTART:20270314T010000
TZOFFSETFROM:-0600
TZOFFSETTO:-0500
END:DAYLIGHT
END:VTIMEZONE
BEGIN:VTIMEZONE
TZID:UTC
BEGIN:STANDARD
DTSTART:20250726T185603
TZOFFSETFROM:+0000
TZOFFSETTO:+0000
END:STANDARD
END:VTIMEZONE
BEGIN:VEVENT
UID:69e919c34c3a2
DTSTAMP:20260422T185603Z
SUMMARY:Surgent's Defending Firms: Email Fraud\, Cloud Risks\, Cyber Insura
 nce\, and Remote Work Security
URL:https://alabama.cpa/catalog/events/7714195-surgents-defending-firms-ema
 il-fraud-cloud-risks-cyber-insurance-and-remote-work-security-2027-11-03
DTSTART;TZID=America/Chicago:20270311T090000
DTEND;TZID=America/Chicago:20270311T110000
END:VEVENT
END:VCALENDAR