BEGIN:VCALENDAR
VERSION:2.0
PRODID:spatie/icalendar-generator
NAME:Surgent's Governing Agentic AI: Cybersecurity\, Data\, and Risk
X-WR-CALNAME:Surgent's Governing Agentic AI: Cybersecurity\, Data\, and Ris
 k
BEGIN:VTIMEZONE
TZID:America/Chicago
BEGIN:STANDARD
DTSTART:20261101T010000
TZOFFSETFROM:-0500
TZOFFSETTO:-0600
END:STANDARD
BEGIN:DAYLIGHT
DTSTART:20270314T010000
TZOFFSETFROM:-0600
TZOFFSETTO:-0500
END:DAYLIGHT
END:VTIMEZONE
BEGIN:VTIMEZONE
TZID:UTC
BEGIN:STANDARD
DTSTART:20250726T185558
TZOFFSETFROM:+0000
TZOFFSETTO:+0000
END:STANDARD
END:VTIMEZONE
BEGIN:VEVENT
UID:69e919be09d6c
DTSTAMP:20260422T185558Z
SUMMARY:Surgent's Governing Agentic AI: Cybersecurity\, Data\, and Risk
URL:https://alabama.cpa/catalog/events/7714313-surgents-governing-agentic-a
 i-cybersecurity-data-and-risk-2027-12-03
DTSTART;TZID=America/Chicago:20270312T130000
DTEND;TZID=America/Chicago:20270312T150000
END:VEVENT
END:VCALENDAR