BEGIN:VCALENDAR
VERSION:2.0
PRODID:spatie/icalendar-generator
NAME:Surgent's Introduction to Forensic Accounting
X-WR-CALNAME:Surgent's Introduction to Forensic Accounting
BEGIN:VTIMEZONE
TZID:America/Chicago
BEGIN:STANDARD
DTSTART:20261101T010000
TZOFFSETFROM:-0500
TZOFFSETTO:-0600
END:STANDARD
BEGIN:DAYLIGHT
DTSTART:20270314T010000
TZOFFSETFROM:-0600
TZOFFSETTO:-0500
END:DAYLIGHT
END:VTIMEZONE
BEGIN:VTIMEZONE
TZID:UTC
BEGIN:STANDARD
DTSTART:20250726T185429
TZOFFSETFROM:+0000
TZOFFSETTO:+0000
END:STANDARD
END:VTIMEZONE
BEGIN:VEVENT
UID:69e919650c371
DTSTAMP:20260422T185429Z
SUMMARY:Surgent's Introduction to Forensic Accounting
URL:https://alabama.cpa/catalog/events/7714360-surgents-introduction-to-for
 ensic-accounting-2027-15-03
DTSTART;TZID=America/Chicago:20270315T080000
DTEND;TZID=America/Chicago:20270315T120000
END:VEVENT
END:VCALENDAR