BEGIN:VCALENDAR
VERSION:2.0
PRODID:spatie/icalendar-generator
NAME:Surgent's Emotional Intelligence
X-WR-CALNAME:Surgent's Emotional Intelligence
BEGIN:VTIMEZONE
TZID:America/Chicago
BEGIN:STANDARD
DTSTART:20261101T010000
TZOFFSETFROM:-0500
TZOFFSETTO:-0600
END:STANDARD
BEGIN:DAYLIGHT
DTSTART:20270314T010000
TZOFFSETFROM:-0600
TZOFFSETTO:-0500
END:DAYLIGHT
END:VTIMEZONE
BEGIN:VTIMEZONE
TZID:UTC
BEGIN:STANDARD
DTSTART:20250726T185858
TZOFFSETFROM:+0000
TZOFFSETTO:+0000
END:STANDARD
END:VTIMEZONE
BEGIN:VEVENT
UID:69e91a72c1f30
DTSTAMP:20260422T185858Z
SUMMARY:Surgent's Emotional Intelligence
URL:https://alabama.cpa/catalog/events/7714443-surgents-emotional-intellige
 nce-2027-16-03
DTSTART;TZID=America/Chicago:20270316T123000
DTEND;TZID=America/Chicago:20270316T163000
END:VEVENT
END:VCALENDAR