BEGIN:VCALENDAR
VERSION:2.0
PRODID:spatie/icalendar-generator
NAME:Surgent's Tax Loss Limitations Imposed on Individuals and Pass-through
  Entities
X-WR-CALNAME:Surgent's Tax Loss Limitations Imposed on Individuals and Pass
 -through Entities
BEGIN:VTIMEZONE
TZID:America/Chicago
BEGIN:STANDARD
DTSTART:20261101T010000
TZOFFSETFROM:-0500
TZOFFSETTO:-0600
END:STANDARD
BEGIN:DAYLIGHT
DTSTART:20270314T010000
TZOFFSETFROM:-0600
TZOFFSETTO:-0500
END:DAYLIGHT
END:VTIMEZONE
BEGIN:VTIMEZONE
TZID:UTC
BEGIN:STANDARD
DTSTART:20250726T185741
TZOFFSETFROM:+0000
TZOFFSETTO:+0000
END:STANDARD
END:VTIMEZONE
BEGIN:VEVENT
UID:69e91a25261ed
DTSTAMP:20260422T185741Z
SUMMARY:Surgent's Tax Loss Limitations Imposed on Individuals and Pass-thro
 ugh Entities
URL:https://alabama.cpa/catalog/events/7714589-surgents-tax-loss-limitation
 s-imposed-on-individuals-and-pass-through-entities-2027-17-03
DTSTART;TZID=America/Chicago:20270317T130000
DTEND;TZID=America/Chicago:20270317T160000
END:VEVENT
END:VCALENDAR