BEGIN:VCALENDAR
VERSION:2.0
PRODID:spatie/icalendar-generator
NAME:Surgent's Top 10 Celebrity Estate Mistakes and How to Avoid Them
X-WR-CALNAME:Surgent's Top 10 Celebrity Estate Mistakes and How to Avoid Th
 em
BEGIN:VTIMEZONE
TZID:America/Chicago
BEGIN:STANDARD
DTSTART:20261101T010000
TZOFFSETFROM:-0500
TZOFFSETTO:-0600
END:STANDARD
BEGIN:DAYLIGHT
DTSTART:20270314T010000
TZOFFSETFROM:-0600
TZOFFSETTO:-0500
END:DAYLIGHT
END:VTIMEZONE
BEGIN:VTIMEZONE
TZID:UTC
BEGIN:STANDARD
DTSTART:20250726T185602
TZOFFSETFROM:+0000
TZOFFSETTO:+0000
END:STANDARD
END:VTIMEZONE
BEGIN:VEVENT
UID:69e919c28ee28
DTSTAMP:20260422T185602Z
SUMMARY:Surgent's Top 10 Celebrity Estate Mistakes and How to Avoid Them
URL:https://alabama.cpa/catalog/events/7714736-surgents-top-10-celebrity-es
 tate-mistakes-and-how-to-avoid-them-2027-18-03
DTSTART;TZID=America/Chicago:20270318T140000
DTEND;TZID=America/Chicago:20270318T160000
END:VEVENT
END:VCALENDAR