BEGIN:VCALENDAR
VERSION:2.0
PRODID:spatie/icalendar-generator
NAME:Surgent's Skills to Enhance Personal and Professional Networks
X-WR-CALNAME:Surgent's Skills to Enhance Personal and Professional Networks
BEGIN:VTIMEZONE
TZID:America/Chicago
BEGIN:STANDARD
DTSTART:20261101T010000
TZOFFSETFROM:-0500
TZOFFSETTO:-0600
END:STANDARD
BEGIN:DAYLIGHT
DTSTART:20270314T010000
TZOFFSETFROM:-0600
TZOFFSETTO:-0500
END:DAYLIGHT
END:VTIMEZONE
BEGIN:VTIMEZONE
TZID:UTC
BEGIN:STANDARD
DTSTART:20250726T185107
TZOFFSETFROM:+0000
TZOFFSETTO:+0000
END:STANDARD
END:VTIMEZONE
BEGIN:VEVENT
UID:69e9189b34762
DTSTAMP:20260422T185107Z
SUMMARY:Surgent's Skills to Enhance Personal and Professional Networks
URL:https://alabama.cpa/catalog/events/7714822-surgents-skills-to-enhance-p
 ersonal-and-professional-networks-2027-19-03
DTSTART;TZID=America/Chicago:20270319T110000
DTEND;TZID=America/Chicago:20270319T130000
END:VEVENT
END:VCALENDAR