BEGIN:VCALENDAR
VERSION:2.0
PRODID:spatie/icalendar-generator
NAME:Surgent's Coaching Skills for Managers and Supervisors
X-WR-CALNAME:Surgent's Coaching Skills for Managers and Supervisors
BEGIN:VTIMEZONE
TZID:America/Chicago
BEGIN:STANDARD
DTSTART:20261101T010000
TZOFFSETFROM:-0500
TZOFFSETTO:-0600
END:STANDARD
BEGIN:DAYLIGHT
DTSTART:20270314T010000
TZOFFSETFROM:-0600
TZOFFSETTO:-0500
END:DAYLIGHT
END:VTIMEZONE
BEGIN:VTIMEZONE
TZID:UTC
BEGIN:STANDARD
DTSTART:20250726T185233
TZOFFSETFROM:+0000
TZOFFSETTO:+0000
END:STANDARD
END:VTIMEZONE
BEGIN:VEVENT
UID:69e918f1e6645
DTSTAMP:20260422T185233Z
SUMMARY:Surgent's Coaching Skills for Managers and Supervisors
URL:https://alabama.cpa/catalog/events/7714864-surgents-coaching-skills-for
 -managers-and-supervisors-2027-22-03
DTSTART;TZID=America/Chicago:20270322T080000
DTEND;TZID=America/Chicago:20270322T120000
END:VEVENT
END:VCALENDAR