BEGIN:VCALENDAR
VERSION:2.0
PRODID:spatie/icalendar-generator
NAME:Surgent's Data Security: Best Practices to Protect Your Business and Y
 ourself
X-WR-CALNAME:Surgent's Data Security: Best Practices to Protect Your Busine
 ss and Yourself
BEGIN:VTIMEZONE
TZID:America/Chicago
BEGIN:STANDARD
DTSTART:20261101T010000
TZOFFSETFROM:-0500
TZOFFSETTO:-0600
END:STANDARD
BEGIN:DAYLIGHT
DTSTART:20270314T010000
TZOFFSETFROM:-0600
TZOFFSETTO:-0500
END:DAYLIGHT
END:VTIMEZONE
BEGIN:VTIMEZONE
TZID:UTC
BEGIN:STANDARD
DTSTART:20250726T185512
TZOFFSETFROM:+0000
TZOFFSETTO:+0000
END:STANDARD
END:VTIMEZONE
BEGIN:VEVENT
UID:69e9199034908
DTSTAMP:20260422T185512Z
SUMMARY:Surgent's Data Security: Best Practices to Protect Your Business an
 d Yourself
URL:https://alabama.cpa/catalog/events/7714882-surgents-data-security-best-
 practices-to-protect-your-business-and-yourself-2027-22-03
DTSTART;TZID=America/Chicago:20270322T130000
DTEND;TZID=America/Chicago:20270322T140000
END:VEVENT
END:VCALENDAR