BEGIN:VCALENDAR
VERSION:2.0
PRODID:spatie/icalendar-generator
NAME:Surgent's Improving Your Profits: Identifying Cost Cutting Opportuniti
 es
X-WR-CALNAME:Surgent's Improving Your Profits: Identifying Cost Cutting Opp
 ortunities
BEGIN:VTIMEZONE
TZID:America/Chicago
BEGIN:STANDARD
DTSTART:20261101T010000
TZOFFSETFROM:-0500
TZOFFSETTO:-0600
END:STANDARD
BEGIN:DAYLIGHT
DTSTART:20270314T010000
TZOFFSETFROM:-0600
TZOFFSETTO:-0500
END:DAYLIGHT
END:VTIMEZONE
BEGIN:VTIMEZONE
TZID:UTC
BEGIN:STANDARD
DTSTART:20250726T185305
TZOFFSETFROM:+0000
TZOFFSETTO:+0000
END:STANDARD
END:VTIMEZONE
BEGIN:VEVENT
UID:69e9191103091
DTSTAMP:20260422T185305Z
SUMMARY:Surgent's Improving Your Profits: Identifying Cost Cutting Opportun
 ities
URL:https://alabama.cpa/catalog/events/7714991-surgents-improving-your-prof
 its-identifying-cost-cutting-opportunities-2027-23-03
DTSTART;TZID=America/Chicago:20270323T130000
DTEND;TZID=America/Chicago:20270323T150000
END:VEVENT
END:VCALENDAR