BEGIN:VCALENDAR
VERSION:2.0
PRODID:spatie/icalendar-generator
NAME:Surgent's Purchase and Sale of a Residence: Critical Tax Issues
X-WR-CALNAME:Surgent's Purchase and Sale of a Residence: Critical Tax Issue
 s
BEGIN:VTIMEZONE
TZID:America/Chicago
BEGIN:STANDARD
DTSTART:20261101T010000
TZOFFSETFROM:-0500
TZOFFSETTO:-0600
END:STANDARD
BEGIN:DAYLIGHT
DTSTART:20270314T010000
TZOFFSETFROM:-0600
TZOFFSETTO:-0500
END:DAYLIGHT
END:VTIMEZONE
BEGIN:VTIMEZONE
TZID:UTC
BEGIN:STANDARD
DTSTART:20250726T185757
TZOFFSETFROM:+0000
TZOFFSETTO:+0000
END:STANDARD
END:VTIMEZONE
BEGIN:VEVENT
UID:69e91a35664ac
DTSTAMP:20260422T185757Z
SUMMARY:Surgent's Purchase and Sale of a Residence: Critical Tax Issues
URL:https://alabama.cpa/catalog/events/7715016-surgents-purchase-and-sale-o
 f-a-residence-critical-tax-issues-2027-23-03
DTSTART;TZID=America/Chicago:20270323T130000
DTEND;TZID=America/Chicago:20270323T150000
END:VEVENT
END:VCALENDAR