BEGIN:VCALENDAR
VERSION:2.0
PRODID:spatie/icalendar-generator
NAME:Surgent's Excel Tables and Conditional Summing
X-WR-CALNAME:Surgent's Excel Tables and Conditional Summing
BEGIN:VTIMEZONE
TZID:America/Chicago
BEGIN:STANDARD
DTSTART:20261101T010000
TZOFFSETFROM:-0500
TZOFFSETTO:-0600
END:STANDARD
BEGIN:DAYLIGHT
DTSTART:20270314T010000
TZOFFSETFROM:-0600
TZOFFSETTO:-0500
END:DAYLIGHT
END:VTIMEZONE
BEGIN:VTIMEZONE
TZID:UTC
BEGIN:STANDARD
DTSTART:20250726T185900
TZOFFSETFROM:+0000
TZOFFSETTO:+0000
END:STANDARD
END:VTIMEZONE
BEGIN:VEVENT
UID:69e91a7442d8e
DTSTAMP:20260422T185900Z
SUMMARY:Surgent's Excel Tables and Conditional Summing
URL:https://alabama.cpa/catalog/events/7715150-surgents-excel-tables-and-co
 nditional-summing-2027-24-03
DTSTART;TZID=America/Chicago:20270324T110000
DTEND;TZID=America/Chicago:20270324T130000
END:VEVENT
END:VCALENDAR