BEGIN:VCALENDAR
VERSION:2.0
PRODID:spatie/icalendar-generator
NAME:Surgent's Forms 7217 and 7203
X-WR-CALNAME:Surgent's Forms 7217 and 7203
BEGIN:VTIMEZONE
TZID:America/Chicago
BEGIN:STANDARD
DTSTART:20261101T010000
TZOFFSETFROM:-0500
TZOFFSETTO:-0600
END:STANDARD
BEGIN:DAYLIGHT
DTSTART:20270314T010000
TZOFFSETFROM:-0600
TZOFFSETTO:-0500
END:DAYLIGHT
END:VTIMEZONE
BEGIN:VTIMEZONE
TZID:UTC
BEGIN:STANDARD
DTSTART:20250726T185510
TZOFFSETFROM:+0000
TZOFFSETTO:+0000
END:STANDARD
END:VTIMEZONE
BEGIN:VEVENT
UID:69e9198ede128
DTSTAMP:20260422T185510Z
SUMMARY:Surgent's Forms 7217 and 7203
URL:https://alabama.cpa/catalog/events/7715155-surgents-forms-7217-and-7203
 -2027-24-03
DTSTART;TZID=America/Chicago:20270324T090000
DTEND;TZID=America/Chicago:20270324T110000
END:VEVENT
END:VCALENDAR