BEGIN:VCALENDAR
VERSION:2.0
PRODID:spatie/icalendar-generator
NAME:Surgent's Taxation of Tips and Overtime Under OBBBA
X-WR-CALNAME:Surgent's Taxation of Tips and Overtime Under OBBBA
BEGIN:VTIMEZONE
TZID:America/Chicago
BEGIN:STANDARD
DTSTART:20261101T010000
TZOFFSETFROM:-0500
TZOFFSETTO:-0600
END:STANDARD
BEGIN:DAYLIGHT
DTSTART:20270314T010000
TZOFFSETFROM:-0600
TZOFFSETTO:-0500
END:DAYLIGHT
END:VTIMEZONE
BEGIN:VTIMEZONE
TZID:UTC
BEGIN:STANDARD
DTSTART:20250726T185105
TZOFFSETFROM:+0000
TZOFFSETTO:+0000
END:STANDARD
END:VTIMEZONE
BEGIN:VEVENT
UID:69e9189987f7e
DTSTAMP:20260422T185105Z
SUMMARY:Surgent's Taxation of Tips and Overtime Under OBBBA
URL:https://alabama.cpa/catalog/events/7715211-surgents-taxation-of-tips-an
 d-overtime-under-obbba-2027-24-03
DTSTART;TZID=America/Chicago:20270324T130000
DTEND;TZID=America/Chicago:20270324T150000
END:VEVENT
END:VCALENDAR