BEGIN:VCALENDAR
VERSION:2.0
PRODID:spatie/icalendar-generator
NAME:Surgent's Lessons Learned From Recent Accounting Malpractice Actions
X-WR-CALNAME:Surgent's Lessons Learned From Recent Accounting Malpractice A
 ctions
BEGIN:VTIMEZONE
TZID:America/Chicago
BEGIN:STANDARD
DTSTART:20261101T010000
TZOFFSETFROM:-0500
TZOFFSETTO:-0600
END:STANDARD
BEGIN:DAYLIGHT
DTSTART:20270314T010000
TZOFFSETFROM:-0600
TZOFFSETTO:-0500
END:DAYLIGHT
END:VTIMEZONE
BEGIN:VTIMEZONE
TZID:UTC
BEGIN:STANDARD
DTSTART:20250726T185235
TZOFFSETFROM:+0000
TZOFFSETTO:+0000
END:STANDARD
END:VTIMEZONE
BEGIN:VEVENT
UID:69e918f332545
DTSTAMP:20260422T185235Z
SUMMARY:Surgent's Lessons Learned From Recent Accounting Malpractice Action
 s
URL:https://alabama.cpa/catalog/events/7715387-surgents-lessons-learned-fro
 m-recent-accounting-malpractice-actions-2027-29-03
DTSTART;TZID=America/Chicago:20270329T080000
DTEND;TZID=America/Chicago:20270329T100000
END:VEVENT
END:VCALENDAR