BEGIN:VCALENDAR
VERSION:2.0
PRODID:spatie/icalendar-generator
NAME:Surgent's Tax Research - Intermediate Concepts
X-WR-CALNAME:Surgent's Tax Research - Intermediate Concepts
BEGIN:VTIMEZONE
TZID:America/Chicago
BEGIN:STANDARD
DTSTART:20261101T010000
TZOFFSETFROM:-0500
TZOFFSETTO:-0600
END:STANDARD
BEGIN:DAYLIGHT
DTSTART:20270314T010000
TZOFFSETFROM:-0600
TZOFFSETTO:-0500
END:DAYLIGHT
END:VTIMEZONE
BEGIN:VTIMEZONE
TZID:UTC
BEGIN:STANDARD
DTSTART:20250726T185512
TZOFFSETFROM:+0000
TZOFFSETTO:+0000
END:STANDARD
END:VTIMEZONE
BEGIN:VEVENT
UID:69e9199060b03
DTSTAMP:20260422T185512Z
SUMMARY:Surgent's Tax Research - Intermediate Concepts
URL:https://alabama.cpa/catalog/events/7715436-surgents-tax-research-interm
 ediate-concepts-2027-29-03
DTSTART;TZID=America/Chicago:20270329T120000
DTEND;TZID=America/Chicago:20270329T140000
END:VEVENT
END:VCALENDAR