BEGIN:VCALENDAR
VERSION:2.0
PRODID:spatie/icalendar-generator
NAME:Surgent's Key Current Financial and Economic Issues Facing the Financi
 al Executive
X-WR-CALNAME:Surgent's Key Current Financial and Economic Issues Facing the
  Financial Executive
BEGIN:VTIMEZONE
TZID:America/Chicago
BEGIN:STANDARD
DTSTART:20261101T010000
TZOFFSETFROM:-0500
TZOFFSETTO:-0600
END:STANDARD
BEGIN:DAYLIGHT
DTSTART:20270314T010000
TZOFFSETFROM:-0600
TZOFFSETTO:-0500
END:DAYLIGHT
END:VTIMEZONE
BEGIN:VTIMEZONE
TZID:UTC
BEGIN:STANDARD
DTSTART:20250726T185229
TZOFFSETFROM:+0000
TZOFFSETTO:+0000
END:STANDARD
END:VTIMEZONE
BEGIN:VEVENT
UID:69e918eda31ac
DTSTAMP:20260422T185229Z
SUMMARY:Surgent's Key Current Financial and Economic Issues Facing the Fina
 ncial Executive
URL:https://alabama.cpa/catalog/events/7715536-surgents-key-current-financi
 al-and-economic-issues-facing-the-financial-executive-2027-30-03
DTSTART;TZID=America/Chicago:20270330T080000
DTEND;TZID=America/Chicago:20270330T160000
END:VEVENT
END:VCALENDAR