BEGIN:VCALENDAR
VERSION:2.0
PRODID:spatie/icalendar-generator
NAME:Surgent's Leveraging AI for Data Analytics in Accounting
X-WR-CALNAME:Surgent's Leveraging AI for Data Analytics in Accounting
BEGIN:VTIMEZONE
TZID:America/Chicago
BEGIN:STANDARD
DTSTART:20261101T010000
TZOFFSETFROM:-0500
TZOFFSETTO:-0600
END:STANDARD
BEGIN:DAYLIGHT
DTSTART:20270314T010000
TZOFFSETFROM:-0600
TZOFFSETTO:-0500
END:DAYLIGHT
END:VTIMEZONE
BEGIN:VTIMEZONE
TZID:UTC
BEGIN:STANDARD
DTSTART:20250726T185118
TZOFFSETFROM:+0000
TZOFFSETTO:+0000
END:STANDARD
END:VTIMEZONE
BEGIN:VEVENT
UID:69e918a63530b
DTSTAMP:20260422T185118Z
SUMMARY:Surgent's Leveraging AI for Data Analytics in Accounting
URL:https://alabama.cpa/catalog/events/7715556-surgents-leveraging-ai-for-d
 ata-analytics-in-accounting-2027-30-03
DTSTART;TZID=America/Chicago:20270330T130000
DTEND;TZID=America/Chicago:20270330T150000
END:VEVENT
END:VCALENDAR