BEGIN:VCALENDAR
VERSION:2.0
PRODID:spatie/icalendar-generator
NAME:Surgent's Engagement Letters: Scope and Risk Management
X-WR-CALNAME:Surgent's Engagement Letters: Scope and Risk Management
BEGIN:VTIMEZONE
TZID:America/Chicago
BEGIN:STANDARD
DTSTART:20261101T010000
TZOFFSETFROM:-0500
TZOFFSETTO:-0600
END:STANDARD
BEGIN:DAYLIGHT
DTSTART:20270314T010000
TZOFFSETFROM:-0600
TZOFFSETTO:-0500
END:DAYLIGHT
END:VTIMEZONE
BEGIN:VTIMEZONE
TZID:UTC
BEGIN:STANDARD
DTSTART:20250726T185858
TZOFFSETFROM:+0000
TZOFFSETTO:+0000
END:STANDARD
END:VTIMEZONE
BEGIN:VEVENT
UID:69e91a72c2116
DTSTAMP:20260422T185858Z
SUMMARY:Surgent's Engagement Letters: Scope and Risk Management
URL:https://alabama.cpa/catalog/events/7715689-surgents-engagement-letters-
 scope-and-risk-management-2027-01-04
DTSTART;TZID=America/Chicago:20270401T120000
DTEND;TZID=America/Chicago:20270401T140000
END:VEVENT
END:VCALENDAR