BEGIN:VCALENDAR
VERSION:2.0
PRODID:spatie/icalendar-generator
NAME:Surgent's IT Systems and Data Management
X-WR-CALNAME:Surgent's IT Systems and Data Management
BEGIN:VTIMEZONE
TZID:America/Chicago
BEGIN:STANDARD
DTSTART:20261101T010000
TZOFFSETFROM:-0500
TZOFFSETTO:-0600
END:STANDARD
BEGIN:DAYLIGHT
DTSTART:20270314T010000
TZOFFSETFROM:-0600
TZOFFSETTO:-0500
END:DAYLIGHT
END:VTIMEZONE
BEGIN:VTIMEZONE
TZID:UTC
BEGIN:STANDARD
DTSTART:20250726T185859
TZOFFSETFROM:+0000
TZOFFSETTO:+0000
END:STANDARD
END:VTIMEZONE
BEGIN:VEVENT
UID:69e91a73160a5
DTSTAMP:20260422T185859Z
SUMMARY:Surgent's IT Systems and Data Management
URL:https://alabama.cpa/catalog/events/7715719-surgents-it-systems-and-data
 -management-2027-01-04
DTSTART;TZID=America/Chicago:20270401T110000
DTEND;TZID=America/Chicago:20270401T130000
END:VEVENT
END:VCALENDAR