BEGIN:VCALENDAR
VERSION:2.0
PRODID:spatie/icalendar-generator
NAME:Surgent's Autonomous Agents in Audit and Assurance
X-WR-CALNAME:Surgent's Autonomous Agents in Audit and Assurance
BEGIN:VTIMEZONE
TZID:America/Chicago
BEGIN:STANDARD
DTSTART:20261101T010000
TZOFFSETFROM:-0500
TZOFFSETTO:-0600
END:STANDARD
BEGIN:DAYLIGHT
DTSTART:20270314T010000
TZOFFSETFROM:-0600
TZOFFSETTO:-0500
END:DAYLIGHT
END:VTIMEZONE
BEGIN:VTIMEZONE
TZID:UTC
BEGIN:STANDARD
DTSTART:20250726T185755
TZOFFSETFROM:+0000
TZOFFSETTO:+0000
END:STANDARD
END:VTIMEZONE
BEGIN:VEVENT
UID:69e91a33d4fc1
DTSTAMP:20260422T185755Z
SUMMARY:Surgent's Autonomous Agents in Audit and Assurance
URL:https://alabama.cpa/catalog/events/7715997-surgents-autonomous-agents-i
 n-audit-and-assurance-2027-07-04
DTSTART;TZID=America/Chicago:20270407T080000
DTEND;TZID=America/Chicago:20270407T100000
END:VEVENT
END:VCALENDAR