BEGIN:VCALENDAR
VERSION:2.0
PRODID:spatie/icalendar-generator
NAME:Surgent's Integrated Planning\, Forecasting\, and Budgeting for Organi
 zational Success
X-WR-CALNAME:Surgent's Integrated Planning\, Forecasting\, and Budgeting fo
 r Organizational Success
BEGIN:VTIMEZONE
TZID:America/Chicago
BEGIN:STANDARD
DTSTART:20261101T010000
TZOFFSETFROM:-0500
TZOFFSETTO:-0600
END:STANDARD
BEGIN:DAYLIGHT
DTSTART:20270314T010000
TZOFFSETFROM:-0600
TZOFFSETTO:-0500
END:DAYLIGHT
END:VTIMEZONE
BEGIN:VTIMEZONE
TZID:UTC
BEGIN:STANDARD
DTSTART:20250726T185245
TZOFFSETFROM:+0000
TZOFFSETTO:+0000
END:STANDARD
END:VTIMEZONE
BEGIN:VEVENT
UID:69e918fd402bc
DTSTAMP:20260422T185245Z
SUMMARY:Surgent's Integrated Planning\, Forecasting\, and Budgeting for Org
 anizational Success
URL:https://alabama.cpa/catalog/events/7716063-surgents-integrated-planning
 -forecasting-and-budgeting-for-organizational-success-2027-07-04
DTSTART;TZID=America/Chicago:20270407T123000
DTEND;TZID=America/Chicago:20270407T163000
END:VEVENT
END:VCALENDAR