BEGIN:VCALENDAR
VERSION:2.0
PRODID:spatie/icalendar-generator
NAME:Surgent's A Complete Tax Guide to Exit Planning
X-WR-CALNAME:Surgent's A Complete Tax Guide to Exit Planning
BEGIN:VTIMEZONE
TZID:America/Chicago
BEGIN:STANDARD
DTSTART:20261101T010000
TZOFFSETFROM:-0500
TZOFFSETTO:-0600
END:STANDARD
BEGIN:DAYLIGHT
DTSTART:20270314T010000
TZOFFSETFROM:-0600
TZOFFSETTO:-0500
END:DAYLIGHT
END:VTIMEZONE
BEGIN:VTIMEZONE
TZID:UTC
BEGIN:STANDARD
DTSTART:20250726T185423
TZOFFSETFROM:+0000
TZOFFSETTO:+0000
END:STANDARD
END:VTIMEZONE
BEGIN:VEVENT
UID:69e9195f41e66
DTSTAMP:20260422T185423Z
SUMMARY:Surgent's A Complete Tax Guide to Exit Planning
URL:https://alabama.cpa/catalog/events/7716152-surgents-a-complete-tax-guid
 e-to-exit-planning-2027-08-04
DTSTART;TZID=America/Chicago:20270408T090000
DTEND;TZID=America/Chicago:20270408T110000
END:VEVENT
END:VCALENDAR