BEGIN:VCALENDAR
VERSION:2.0
PRODID:spatie/icalendar-generator
NAME:Surgent's Industry Accountant Key Performance Metrics
X-WR-CALNAME:Surgent's Industry Accountant Key Performance Metrics
BEGIN:VTIMEZONE
TZID:America/Chicago
BEGIN:STANDARD
DTSTART:20261101T010000
TZOFFSETFROM:-0500
TZOFFSETTO:-0600
END:STANDARD
BEGIN:DAYLIGHT
DTSTART:20270314T010000
TZOFFSETFROM:-0600
TZOFFSETTO:-0500
END:DAYLIGHT
END:VTIMEZONE
BEGIN:VTIMEZONE
TZID:UTC
BEGIN:STANDARD
DTSTART:20250726T185428
TZOFFSETFROM:+0000
TZOFFSETTO:+0000
END:STANDARD
END:VTIMEZONE
BEGIN:VEVENT
UID:69e91964afb9c
DTSTAMP:20260422T185428Z
SUMMARY:Surgent's Industry Accountant Key Performance Metrics
URL:https://alabama.cpa/catalog/events/7716209-surgents-industry-accountant
 -key-performance-metrics-2027-09-04
DTSTART;TZID=America/Chicago:20270409T080000
DTEND;TZID=America/Chicago:20270409T160000
END:VEVENT
END:VCALENDAR