BEGIN:VCALENDAR
VERSION:2.0
PRODID:spatie/icalendar-generator
NAME:Surgent's IT Governance and Risk Management
X-WR-CALNAME:Surgent's IT Governance and Risk Management
BEGIN:VTIMEZONE
TZID:America/Chicago
BEGIN:STANDARD
DTSTART:20261101T010000
TZOFFSETFROM:-0500
TZOFFSETTO:-0600
END:STANDARD
BEGIN:DAYLIGHT
DTSTART:20270314T010000
TZOFFSETFROM:-0600
TZOFFSETTO:-0500
END:DAYLIGHT
END:VTIMEZONE
BEGIN:VTIMEZONE
TZID:UTC
BEGIN:STANDARD
DTSTART:20250726T185841
TZOFFSETFROM:+0000
TZOFFSETTO:+0000
END:STANDARD
END:VTIMEZONE
BEGIN:VEVENT
UID:69e91a6157be3
DTSTAMP:20260422T185841Z
SUMMARY:Surgent's IT Governance and Risk Management
URL:https://alabama.cpa/catalog/events/7716321-surgents-it-governance-and-r
 isk-management-2027-12-04
DTSTART;TZID=America/Chicago:20270412T140000
DTEND;TZID=America/Chicago:20270412T160000
END:VEVENT
END:VCALENDAR