BEGIN:VCALENDAR
VERSION:2.0
PRODID:spatie/icalendar-generator
NAME:Surgent's Advising a Client Regarding the Tax Consequences Associated 
 with Buying or Selling a Business
X-WR-CALNAME:Surgent's Advising a Client Regarding the Tax Consequences Ass
 ociated with Buying or Selling a Business
BEGIN:VTIMEZONE
TZID:America/Chicago
BEGIN:STANDARD
DTSTART:20261101T010000
TZOFFSETFROM:-0500
TZOFFSETTO:-0600
END:STANDARD
BEGIN:DAYLIGHT
DTSTART:20270314T010000
TZOFFSETFROM:-0600
TZOFFSETTO:-0500
END:DAYLIGHT
END:VTIMEZONE
BEGIN:VTIMEZONE
TZID:UTC
BEGIN:STANDARD
DTSTART:20250726T185813
TZOFFSETFROM:+0000
TZOFFSETTO:+0000
END:STANDARD
END:VTIMEZONE
BEGIN:VEVENT
UID:69e91a4506549
DTSTAMP:20260422T185813Z
SUMMARY:Surgent's Advising a Client Regarding the Tax Consequences Associat
 ed with Buying or Selling a Business
URL:https://alabama.cpa/catalog/events/7716674-surgents-advising-a-client-r
 egarding-the-tax-consequences-associated-with-buying-or-selling-a-business
 -2027-19-04
DTSTART;TZID=America/Chicago:20270419T130000
DTEND;TZID=America/Chicago:20270419T160000
END:VEVENT
END:VCALENDAR