BEGIN:VCALENDAR
VERSION:2.0
PRODID:spatie/icalendar-generator
NAME:Surgent's Use the Data Model to Build More Powerful PivotTables
X-WR-CALNAME:Surgent's Use the Data Model to Build More Powerful PivotTable
 s
BEGIN:VTIMEZONE
TZID:America/Chicago
BEGIN:STANDARD
DTSTART:20261101T010000
TZOFFSETFROM:-0500
TZOFFSETTO:-0600
END:STANDARD
BEGIN:DAYLIGHT
DTSTART:20270314T010000
TZOFFSETFROM:-0600
TZOFFSETTO:-0500
END:DAYLIGHT
END:VTIMEZONE
BEGIN:VTIMEZONE
TZID:UTC
BEGIN:STANDARD
DTSTART:20250726T185644
TZOFFSETFROM:+0000
TZOFFSETTO:+0000
END:STANDARD
END:VTIMEZONE
BEGIN:VEVENT
UID:69e919ec63086
DTSTAMP:20260422T185644Z
SUMMARY:Surgent's Use the Data Model to Build More Powerful PivotTables
URL:https://alabama.cpa/catalog/events/7716738-surgents-use-the-data-model-
 to-build-more-powerful-pivottables-2027-19-04
DTSTART;TZID=America/Chicago:20270419T120000
DTEND;TZID=America/Chicago:20270419T140000
END:VEVENT
END:VCALENDAR