BEGIN:VCALENDAR
VERSION:2.0
PRODID:spatie/icalendar-generator
NAME:Surgent's Perplexing Financial and Economic Issues for the CFO/Control
 ler
X-WR-CALNAME:Surgent's Perplexing Financial and Economic Issues for the CFO
 /Controller
BEGIN:VTIMEZONE
TZID:America/Chicago
BEGIN:STANDARD
DTSTART:20261101T010000
TZOFFSETFROM:-0500
TZOFFSETTO:-0600
END:STANDARD
BEGIN:DAYLIGHT
DTSTART:20270314T010000
TZOFFSETFROM:-0600
TZOFFSETTO:-0500
END:DAYLIGHT
END:VTIMEZONE
BEGIN:VTIMEZONE
TZID:UTC
BEGIN:STANDARD
DTSTART:20250726T185246
TZOFFSETFROM:+0000
TZOFFSETTO:+0000
END:STANDARD
END:VTIMEZONE
BEGIN:VEVENT
UID:69e918fe291ce
DTSTAMP:20260422T185246Z
SUMMARY:Surgent's Perplexing Financial and Economic Issues for the CFO/Cont
 roller
URL:https://alabama.cpa/catalog/events/7716762-surgents-perplexing-financia
 l-and-economic-issues-for-the-cfocontroller-2027-19-04
DTSTART;TZID=America/Chicago:20270419T080000
DTEND;TZID=America/Chicago:20270419T160000
END:VEVENT
END:VCALENDAR