BEGIN:VCALENDAR
VERSION:2.0
PRODID:spatie/icalendar-generator
NAME:Surgent's Unconscious Bias for Managers\, Supervisors\, and Executives
X-WR-CALNAME:Surgent's Unconscious Bias for Managers\, Supervisors\, and Ex
 ecutives
BEGIN:VTIMEZONE
TZID:America/Chicago
BEGIN:STANDARD
DTSTART:20261101T010000
TZOFFSETFROM:-0500
TZOFFSETTO:-0600
END:STANDARD
BEGIN:DAYLIGHT
DTSTART:20270314T010000
TZOFFSETFROM:-0600
TZOFFSETTO:-0500
END:DAYLIGHT
END:VTIMEZONE
BEGIN:VTIMEZONE
TZID:UTC
BEGIN:STANDARD
DTSTART:20250726T185105
TZOFFSETFROM:+0000
TZOFFSETTO:+0000
END:STANDARD
END:VTIMEZONE
BEGIN:VEVENT
UID:69e918993e507
DTSTAMP:20260422T185105Z
SUMMARY:Surgent's Unconscious Bias for Managers\, Supervisors\, and Executi
 ves
URL:https://alabama.cpa/catalog/events/7716818-surgents-unconscious-bias-fo
 r-managers-supervisors-and-executives-2027-20-04
DTSTART;TZID=America/Chicago:20270420T130000
DTEND;TZID=America/Chicago:20270420T150000
END:VEVENT
END:VCALENDAR