BEGIN:VCALENDAR
VERSION:2.0
PRODID:spatie/icalendar-generator
NAME:Surgent's Ethics for the Industry Accountant
X-WR-CALNAME:Surgent's Ethics for the Industry Accountant
BEGIN:VTIMEZONE
TZID:America/Chicago
BEGIN:STANDARD
DTSTART:20261101T010000
TZOFFSETFROM:-0500
TZOFFSETTO:-0600
END:STANDARD
BEGIN:DAYLIGHT
DTSTART:20270314T010000
TZOFFSETFROM:-0600
TZOFFSETTO:-0500
END:DAYLIGHT
END:VTIMEZONE
BEGIN:VTIMEZONE
TZID:UTC
BEGIN:STANDARD
DTSTART:20250726T185118
TZOFFSETFROM:+0000
TZOFFSETTO:+0000
END:STANDARD
END:VTIMEZONE
BEGIN:VEVENT
UID:69e918a6711d6
DTSTAMP:20260422T185118Z
SUMMARY:Surgent's Ethics for the Industry Accountant
URL:https://alabama.cpa/catalog/events/7716933-surgents-ethics-for-the-indu
 stry-accountant-2027-21-04
DTSTART;TZID=America/Chicago:20270421T080000
DTEND;TZID=America/Chicago:20270421T120000
END:VEVENT
END:VCALENDAR