BEGIN:VCALENDAR
VERSION:2.0
PRODID:spatie/icalendar-generator
NAME:Surgent's The Road Ahead: Critical OBBBA Changes Impacting Accounting 
 and Finance Professionals
X-WR-CALNAME:Surgent's The Road Ahead: Critical OBBBA Changes Impacting Acc
 ounting and Finance Professionals
BEGIN:VTIMEZONE
TZID:America/Chicago
BEGIN:STANDARD
DTSTART:20261101T010000
TZOFFSETFROM:-0500
TZOFFSETTO:-0600
END:STANDARD
BEGIN:DAYLIGHT
DTSTART:20270314T010000
TZOFFSETFROM:-0600
TZOFFSETTO:-0500
END:DAYLIGHT
END:VTIMEZONE
BEGIN:VTIMEZONE
TZID:UTC
BEGIN:STANDARD
DTSTART:20250726T185402
TZOFFSETFROM:+0000
TZOFFSETTO:+0000
END:STANDARD
END:VTIMEZONE
BEGIN:VEVENT
UID:69e9194ad19f6
DTSTAMP:20260422T185402Z
SUMMARY:Surgent's The Road Ahead: Critical OBBBA Changes Impacting Accounti
 ng and Finance Professionals
URL:https://alabama.cpa/catalog/events/7716962-surgents-the-road-ahead-crit
 ical-obbba-changes-impacting-accounting-and-finance-professionals-2027-21-
 04
DTSTART;TZID=America/Chicago:20270421T120000
DTEND;TZID=America/Chicago:20270421T140000
END:VEVENT
END:VCALENDAR