BEGIN:VCALENDAR
VERSION:2.0
PRODID:spatie/icalendar-generator
NAME:Surgent's How to Effectively Represent Clients Under IRS Audit
X-WR-CALNAME:Surgent's How to Effectively Represent Clients Under IRS Audit
BEGIN:VTIMEZONE
TZID:America/Chicago
BEGIN:STANDARD
DTSTART:20261101T010000
TZOFFSETFROM:-0500
TZOFFSETTO:-0600
END:STANDARD
BEGIN:DAYLIGHT
DTSTART:20270314T010000
TZOFFSETFROM:-0600
TZOFFSETTO:-0500
END:DAYLIGHT
END:VTIMEZONE
BEGIN:VTIMEZONE
TZID:UTC
BEGIN:STANDARD
DTSTART:20250726T185740
TZOFFSETFROM:+0000
TZOFFSETTO:+0000
END:STANDARD
END:VTIMEZONE
BEGIN:VEVENT
UID:69e91a24696f8
DTSTAMP:20260422T185740Z
SUMMARY:Surgent's How to Effectively Represent Clients Under IRS Audit
URL:https://alabama.cpa/catalog/events/7716976-surgents-how-to-effectively-
 represent-clients-under-irs-audit-2027-21-04
DTSTART;TZID=America/Chicago:20270421T090000
DTEND;TZID=America/Chicago:20270421T110000
END:VEVENT
END:VCALENDAR