BEGIN:VCALENDAR
VERSION:2.0
PRODID:spatie/icalendar-generator
NAME:Surgent's Controller/CFO Update: Hot Topics Facing Today's Financial P
 rofessional
X-WR-CALNAME:Surgent's Controller/CFO Update: Hot Topics Facing Today's Fin
 ancial Professional
BEGIN:VTIMEZONE
TZID:America/Chicago
BEGIN:STANDARD
DTSTART:20261101T010000
TZOFFSETFROM:-0500
TZOFFSETTO:-0600
END:STANDARD
BEGIN:DAYLIGHT
DTSTART:20270314T010000
TZOFFSETFROM:-0600
TZOFFSETTO:-0500
END:DAYLIGHT
END:VTIMEZONE
BEGIN:VTIMEZONE
TZID:UTC
BEGIN:STANDARD
DTSTART:20250726T185705
TZOFFSETFROM:+0000
TZOFFSETTO:+0000
END:STANDARD
END:VTIMEZONE
BEGIN:VEVENT
UID:69e91a01470f4
DTSTAMP:20260422T185705Z
SUMMARY:Surgent's Controller/CFO Update: Hot Topics Facing Today's Financia
 l Professional
URL:https://alabama.cpa/catalog/events/7716983-surgents-controllercfo-updat
 e-hot-topics-facing-todays-financial-professional-2027-21-04
DTSTART;TZID=America/Chicago:20270421T080000
DTEND;TZID=America/Chicago:20270421T120000
END:VEVENT
END:VCALENDAR