BEGIN:VCALENDAR
VERSION:2.0
PRODID:spatie/icalendar-generator
NAME:Surgent's Excel: Mastering PivotTables
X-WR-CALNAME:Surgent's Excel: Mastering PivotTables
BEGIN:VTIMEZONE
TZID:America/Chicago
BEGIN:STANDARD
DTSTART:20261101T010000
TZOFFSETFROM:-0500
TZOFFSETTO:-0600
END:STANDARD
BEGIN:DAYLIGHT
DTSTART:20270314T010000
TZOFFSETFROM:-0600
TZOFFSETTO:-0500
END:DAYLIGHT
END:VTIMEZONE
BEGIN:VTIMEZONE
TZID:UTC
BEGIN:STANDARD
DTSTART:20250726T185704
TZOFFSETFROM:+0000
TZOFFSETTO:+0000
END:STANDARD
END:VTIMEZONE
BEGIN:VEVENT
UID:69e91a009f1e9
DTSTAMP:20260422T185704Z
SUMMARY:Surgent's Excel: Mastering PivotTables
URL:https://alabama.cpa/catalog/events/7717106-surgents-excel-mastering-piv
 ottables-2027-22-04
DTSTART;TZID=America/Chicago:20270422T090000
DTEND;TZID=America/Chicago:20270422T110000
END:VEVENT
END:VCALENDAR