BEGIN:VCALENDAR
VERSION:2.0
PRODID:spatie/icalendar-generator
NAME:Surgent's Managing Up the Ladder
X-WR-CALNAME:Surgent's Managing Up the Ladder
BEGIN:VTIMEZONE
TZID:America/Chicago
BEGIN:STANDARD
DTSTART:20261101T010000
TZOFFSETFROM:-0500
TZOFFSETTO:-0600
END:STANDARD
BEGIN:DAYLIGHT
DTSTART:20270314T010000
TZOFFSETFROM:-0600
TZOFFSETTO:-0500
END:DAYLIGHT
END:VTIMEZONE
BEGIN:VTIMEZONE
TZID:UTC
BEGIN:STANDARD
DTSTART:20250726T185423
TZOFFSETFROM:+0000
TZOFFSETTO:+0000
END:STANDARD
END:VTIMEZONE
BEGIN:VEVENT
UID:69e9195fdd42e
DTSTAMP:20260422T185423Z
SUMMARY:Surgent's Managing Up the Ladder
URL:https://alabama.cpa/catalog/events/7717141-surgents-managing-up-the-lad
 der-2027-22-04
DTSTART;TZID=America/Chicago:20270422T140000
DTEND;TZID=America/Chicago:20270422T160000
END:VEVENT
END:VCALENDAR