BEGIN:VCALENDAR
VERSION:2.0
PRODID:spatie/icalendar-generator
NAME:Surgent's The One Big Beautiful Bill Act (OBBBA): What You Need To Kno
 w
X-WR-CALNAME:Surgent's The One Big Beautiful Bill Act (OBBBA): What You Nee
 d To Know
BEGIN:VTIMEZONE
TZID:America/Chicago
BEGIN:STANDARD
DTSTART:20261101T010000
TZOFFSETFROM:-0500
TZOFFSETTO:-0600
END:STANDARD
BEGIN:DAYLIGHT
DTSTART:20270314T010000
TZOFFSETFROM:-0600
TZOFFSETTO:-0500
END:DAYLIGHT
END:VTIMEZONE
BEGIN:VTIMEZONE
TZID:UTC
BEGIN:STANDARD
DTSTART:20250726T185900
TZOFFSETFROM:+0000
TZOFFSETTO:+0000
END:STANDARD
END:VTIMEZONE
BEGIN:VEVENT
UID:69e91a74a6462
DTSTAMP:20260422T185900Z
SUMMARY:Surgent's The One Big Beautiful Bill Act (OBBBA): What You Need To 
 Know
URL:https://alabama.cpa/catalog/events/7717157-surgents-the-one-big-beautif
 ul-bill-act-obbba-what-you-need-to-know-2027-22-04
DTSTART;TZID=America/Chicago:20270422T120000
DTEND;TZID=America/Chicago:20270422T160000
END:VEVENT
END:VCALENDAR