BEGIN:VCALENDAR
VERSION:2.0
PRODID:spatie/icalendar-generator
NAME:Surgent's The Accountant as the Expert Witness
X-WR-CALNAME:Surgent's The Accountant as the Expert Witness
BEGIN:VTIMEZONE
TZID:America/Chicago
BEGIN:STANDARD
DTSTART:20261101T010000
TZOFFSETFROM:-0500
TZOFFSETTO:-0600
END:STANDARD
BEGIN:DAYLIGHT
DTSTART:20270314T010000
TZOFFSETFROM:-0600
TZOFFSETTO:-0500
END:DAYLIGHT
END:VTIMEZONE
BEGIN:VTIMEZONE
TZID:UTC
BEGIN:STANDARD
DTSTART:20250726T185119
TZOFFSETFROM:+0000
TZOFFSETTO:+0000
END:STANDARD
END:VTIMEZONE
BEGIN:VEVENT
UID:69e918a7021bd
DTSTAMP:20260422T185119Z
SUMMARY:Surgent's The Accountant as the Expert Witness
URL:https://alabama.cpa/catalog/events/7717251-surgents-the-accountant-as-t
 he-expert-witness-2027-23-04
DTSTART;TZID=America/Chicago:20270423T110000
DTEND;TZID=America/Chicago:20270423T130000
END:VEVENT
END:VCALENDAR