BEGIN:VCALENDAR
VERSION:2.0
PRODID:spatie/icalendar-generator
NAME:Surgent's Accountability and Action
X-WR-CALNAME:Surgent's Accountability and Action
BEGIN:VTIMEZONE
TZID:America/Chicago
BEGIN:STANDARD
DTSTART:20261101T010000
TZOFFSETFROM:-0500
TZOFFSETTO:-0600
END:STANDARD
BEGIN:DAYLIGHT
DTSTART:20270314T010000
TZOFFSETFROM:-0600
TZOFFSETTO:-0500
END:DAYLIGHT
END:VTIMEZONE
BEGIN:VTIMEZONE
TZID:UTC
BEGIN:STANDARD
DTSTART:20250726T185424
TZOFFSETFROM:+0000
TZOFFSETTO:+0000
END:STANDARD
END:VTIMEZONE
BEGIN:VEVENT
UID:69e91960c755d
DTSTAMP:20260422T185424Z
SUMMARY:Surgent's Accountability and Action
URL:https://alabama.cpa/catalog/events/7717292-surgents-accountability-and-
 action-2027-26-04
DTSTART;TZID=America/Chicago:20270426T080000
DTEND;TZID=America/Chicago:20270426T120000
END:VEVENT
END:VCALENDAR