BEGIN:VCALENDAR
VERSION:2.0
PRODID:spatie/icalendar-generator
NAME:Surgent's Tax Reporting for Executive Compensation
X-WR-CALNAME:Surgent's Tax Reporting for Executive Compensation
BEGIN:VTIMEZONE
TZID:America/Chicago
BEGIN:STANDARD
DTSTART:20261101T010000
TZOFFSETFROM:-0500
TZOFFSETTO:-0600
END:STANDARD
BEGIN:DAYLIGHT
DTSTART:20270314T010000
TZOFFSETFROM:-0600
TZOFFSETTO:-0500
END:DAYLIGHT
END:VTIMEZONE
BEGIN:VTIMEZONE
TZID:UTC
BEGIN:STANDARD
DTSTART:20250726T185811
TZOFFSETFROM:+0000
TZOFFSETTO:+0000
END:STANDARD
END:VTIMEZONE
BEGIN:VEVENT
UID:69e91a43c7c1d
DTSTAMP:20260422T185811Z
SUMMARY:Surgent's Tax Reporting for Executive Compensation
URL:https://alabama.cpa/catalog/events/7717328-surgents-tax-reporting-for-e
 xecutive-compensation-2027-26-04
DTSTART;TZID=America/Chicago:20270426T130000
DTEND;TZID=America/Chicago:20270426T150000
END:VEVENT
END:VCALENDAR