BEGIN:VCALENDAR
VERSION:2.0
PRODID:spatie/icalendar-generator
NAME:Surgent's Handling Difficult People
X-WR-CALNAME:Surgent's Handling Difficult People
BEGIN:VTIMEZONE
TZID:America/Chicago
BEGIN:STANDARD
DTSTART:20261101T010000
TZOFFSETFROM:-0500
TZOFFSETTO:-0600
END:STANDARD
BEGIN:DAYLIGHT
DTSTART:20270314T010000
TZOFFSETFROM:-0600
TZOFFSETTO:-0500
END:DAYLIGHT
END:VTIMEZONE
BEGIN:VTIMEZONE
TZID:UTC
BEGIN:STANDARD
DTSTART:20250726T185756
TZOFFSETFROM:+0000
TZOFFSETTO:+0000
END:STANDARD
END:VTIMEZONE
BEGIN:VEVENT
UID:69e91a340c6ec
DTSTAMP:20260422T185756Z
SUMMARY:Surgent's Handling Difficult People
URL:https://alabama.cpa/catalog/events/7717480-surgents-handling-difficult-
 people-2027-27-04
DTSTART;TZID=America/Chicago:20270427T090000
DTEND;TZID=America/Chicago:20270427T110000
END:VEVENT
END:VCALENDAR